BEGIN:VCALENDAR
VERSION:2.0
PRODID:-//Ayuntamiento de Ejea de los Caballeros - ECPv6.15.15//NONSGML v1.0//EN
CALSCALE:GREGORIAN
METHOD:PUBLISH
X-ORIGINAL-URL:https://www.ejea.es
X-WR-CALDESC:Eventos para Ayuntamiento de Ejea de los Caballeros
REFRESH-INTERVAL;VALUE=DURATION:PT1H
X-Robots-Tag:noindex
X-PUBLISHED-TTL:PT1H
BEGIN:VTIMEZONE
TZID:Europe/Madrid
BEGIN:DAYLIGHT
TZOFFSETFROM:+0100
TZOFFSETTO:+0200
TZNAME:CEST
DTSTART:20230326T010000
END:DAYLIGHT
BEGIN:STANDARD
TZOFFSETFROM:+0200
TZOFFSETTO:+0100
TZNAME:CET
DTSTART:20231029T010000
END:STANDARD
BEGIN:DAYLIGHT
TZOFFSETFROM:+0100
TZOFFSETTO:+0200
TZNAME:CEST
DTSTART:20240331T010000
END:DAYLIGHT
BEGIN:STANDARD
TZOFFSETFROM:+0200
TZOFFSETTO:+0100
TZNAME:CET
DTSTART:20241027T010000
END:STANDARD
BEGIN:DAYLIGHT
TZOFFSETFROM:+0100
TZOFFSETTO:+0200
TZNAME:CEST
DTSTART:20250330T010000
END:DAYLIGHT
BEGIN:STANDARD
TZOFFSETFROM:+0200
TZOFFSETTO:+0100
TZNAME:CET
DTSTART:20251026T010000
END:STANDARD
END:VTIMEZONE
BEGIN:VEVENT
DTSTART;TZID=Europe/Madrid:20241108T200000
DTEND;TZID=Europe/Madrid:20241108T200000
DTSTAMP:20260425T171636
CREATED:20241104T104838Z
LAST-MODIFIED:20241104T104838Z
UID:40420-1731096000-1731096000@www.ejea.es
SUMMARY:Concierto solidario Cruz Roja\, damnificados DANA
DESCRIPTION:
URL:https://www.ejea.es/evento/concierto-solidario-cruz-roja-damnificados-dana/
LOCATION:Casino España\, Avda Cosculluela\, Ejea de los Caballeros\, 50600\, España
CATEGORIES:Concierto,Portada
ATTACH;FMTTYPE=image/jpeg:https://st1.ejea.es/media/2024/11/Evento-Solidario-con-Cruz-Roja-08-11-24-scaled.jpg
END:VEVENT
BEGIN:VEVENT
DTSTART;TZID=Europe/Madrid:20241109T213000
DTEND;TZID=Europe/Madrid:20241109T230000
DTSTAMP:20260425T171636
CREATED:20241106T133336Z
LAST-MODIFIED:20241106T135049Z
UID:40581-1731187800-1731193200@www.ejea.es
SUMMARY:Tres corazones infinitos- Lola Herrera
DESCRIPTION:Más información aquí. 
URL:https://www.ejea.es/evento/tres-corazones-infinitos-lola-herrera/
LOCATION:Teatro de la Villa\, Plaza Virgen de la Oliva\, Ejea de los Caballeros\, Zaragoza\, 50600\, España
CATEGORIES:Cultura,Portada,Teatro
ATTACH;FMTTYPE=image/png:https://st1.ejea.es/media/2024/11/LOLA-HERRERA.png
ORGANIZER;CN="Ayuntamiento de Ejea de los Caballeros":MAILTO:info@aytoejea.es
END:VEVENT
BEGIN:VEVENT
DTSTART;VALUE=DATE:20241116
DTEND;VALUE=DATE:20241117
DTSTAMP:20260425T171636
CREATED:20241009T062633Z
LAST-MODIFIED:20241009T110051Z
UID:39897-1731715200-1731801599@www.ejea.es
SUMMARY:Concierto November Fest
DESCRIPTION:
URL:https://www.ejea.es/evento/concierto-november-fest/
LOCATION:Recinto Ferial\, Ejea de los Caballeros\, Ejea de los Caballeros\, Zaragoza\, 50600
CATEGORIES:Concierto,Cultura,Portada
ATTACH;FMTTYPE=image/jpeg:https://st1.ejea.es/media/2024/10/Cartel-November-Fest-16-11-24-.jpeg
END:VEVENT
BEGIN:VEVENT
DTSTART;TZID=Europe/Madrid:20241116T213000
DTEND;TZID=Europe/Madrid:20241116T230000
DTSTAMP:20260425T171636
CREATED:20241114T090330Z
LAST-MODIFIED:20241114T090452Z
UID:40719-1731792600-1731798000@www.ejea.es
SUMMARY:Titzina y su espectáculo “Búho”
DESCRIPTION:Información 
URL:https://www.ejea.es/evento/titzina-y-su-espectaculo-buho/
LOCATION:Teatro de la Villa\, Plaza Virgen de la Oliva\, Ejea de los Caballeros\, Zaragoza\, 50600\, España
CATEGORIES:Cultura,Portada,Teatro
ATTACH;FMTTYPE=image/png:https://st1.ejea.es/media/2024/11/Teatro-16-11-24.png
ORGANIZER;CN="Ayuntamiento de Ejea de los Caballeros":MAILTO:info@aytoejea.es
END:VEVENT
BEGIN:VEVENT
DTSTART;TZID=Europe/Madrid:20241128T080000
DTEND;TZID=Europe/Madrid:20241128T170000
DTSTAMP:20260425T171636
CREATED:20241128T072600Z
LAST-MODIFIED:20241128T072600Z
UID:41075-1732780800-1732813200@www.ejea.es
SUMMARY:“¡Ay\, Carmela! De Sanchis Sinistierra\, una obra de la compañía aragonesa La Calle 47
DESCRIPTION:
URL:https://www.ejea.es/evento/ay-carmela-de-sanchis-sinistierra-una-obra-de-la-compania-aragonesa-la-calle-47/
CATEGORIES:Cultura,Portada,Teatro
ATTACH;FMTTYPE=image/png:https://st1.ejea.es/media/2024/11/CALLE-47.png
END:VEVENT
BEGIN:VEVENT
DTSTART;TZID=Europe/Madrid:20241128T120000
DTEND;TZID=Europe/Madrid:20241128T130000
DTSTAMP:20260425T171636
CREATED:20241126T103001Z
LAST-MODIFIED:20241126T103001Z
UID:41038-1732795200-1732798800@www.ejea.es
SUMMARY:Exposición "Por Tierras de Zaragoza"
DESCRIPTION:
URL:https://www.ejea.es/evento/exposicion-por-tierras-de-zaragoza/
LOCATION:Centro de Exposiciones CAE\, Ramón y Cajal 21\, Ejea de los Caballeros\, Zaragoza\, 50600\, España
CATEGORIES:Cultura,Exposición,Portada
ATTACH;FMTTYPE=image/jpeg:https://st1.ejea.es/media/2024/11/Cartel-exposicion-CAE-31-12-24.jpeg
END:VEVENT
END:VCALENDAR