BEGIN:VCALENDAR
VERSION:2.0
PRODID:-//Ayuntamiento de Ejea de los Caballeros - ECPv6.15.15//NONSGML v1.0//EN
CALSCALE:GREGORIAN
METHOD:PUBLISH
X-WR-CALNAME:Ayuntamiento de Ejea de los Caballeros
X-ORIGINAL-URL:https://www.ejea.es
X-WR-CALDESC:Eventos para Ayuntamiento de Ejea de los Caballeros
REFRESH-INTERVAL;VALUE=DURATION:PT1H
X-Robots-Tag:noindex
X-PUBLISHED-TTL:PT1H
BEGIN:VTIMEZONE
TZID:Europe/Madrid
BEGIN:DAYLIGHT
TZOFFSETFROM:+0100
TZOFFSETTO:+0200
TZNAME:CEST
DTSTART:20240331T010000
END:DAYLIGHT
BEGIN:STANDARD
TZOFFSETFROM:+0200
TZOFFSETTO:+0100
TZNAME:CET
DTSTART:20241027T010000
END:STANDARD
BEGIN:DAYLIGHT
TZOFFSETFROM:+0100
TZOFFSETTO:+0200
TZNAME:CEST
DTSTART:20250330T010000
END:DAYLIGHT
BEGIN:STANDARD
TZOFFSETFROM:+0200
TZOFFSETTO:+0100
TZNAME:CET
DTSTART:20251026T010000
END:STANDARD
BEGIN:DAYLIGHT
TZOFFSETFROM:+0100
TZOFFSETTO:+0200
TZNAME:CEST
DTSTART:20260329T010000
END:DAYLIGHT
BEGIN:STANDARD
TZOFFSETFROM:+0200
TZOFFSETTO:+0100
TZNAME:CET
DTSTART:20261025T010000
END:STANDARD
END:VTIMEZONE
BEGIN:VEVENT
DTSTART;VALUE=DATE:20250207
DTEND;VALUE=DATE:20250317
DTSTAMP:20260425T234510
CREATED:20250207T101106Z
LAST-MODIFIED:20250207T101136Z
UID:42276-1738886400-1742169599@www.ejea.es
SUMMARY:Exposición "Bella Música\, Bellas Artes"
DESCRIPTION:Más información
URL:https://www.ejea.es/evento/exposicion-bella-musica-bellas-artes/
LOCATION:Sala Exposiciones Parroquia\, Mediavilla 41\, Ejea de los Caballeros\, Zaragoza\, 50600\, España
CATEGORIES:Cultura,Exposición,Portada
ATTACH;FMTTYPE=image/jpeg:https://st1.ejea.es/media/2025/02/cartel-ok.jpg
ORGANIZER;CN="Ayuntamiento de Ejea de los Caballeros":MAILTO:info@aytoejea.es
END:VEVENT
BEGIN:VEVENT
DTSTART;VALUE=DATE:20250303
DTEND;VALUE=DATE:20250329
DTSTAMP:20260425T234510
CREATED:20250317T072319Z
LAST-MODIFIED:20250317T072508Z
UID:43250-1740960000-1743206399@www.ejea.es
SUMMARY:Exposición Teresa Perales y Mafalda
DESCRIPTION:Más información: https://www.ejea.es/dos-mundos-mafalda-teresa-perales/
URL:https://www.ejea.es/evento/exposicion-teresa-perales-y-mafalda/
LOCATION:Centro Cívico\, Paseo Del Muro\, 22 - 24\, Ejea de los Caballeros\, Zaragoza\, 50600
CATEGORIES:Exposición,Portada
ATTACH;FMTTYPE=image/jpeg:https://st1.ejea.es/media/2025/03/Exposicion-Mafalta-y-T.Perales-28-03-25.jpg
END:VEVENT
BEGIN:VEVENT
DTSTART;TZID=Europe/Madrid:20250305T193000
DTEND;TZID=Europe/Madrid:20250305T203000
DTSTAMP:20260425T234510
CREATED:20250224T084021Z
LAST-MODIFIED:20250224T084314Z
UID:42517-1741203000-1741206600@www.ejea.es
SUMMARY:Charla sobre igualdad
DESCRIPTION:  \n5 de marzo \n19.30 horas \nCentro Cívico
URL:https://www.ejea.es/evento/charla-sobre-igualdad/
LOCATION:Centro Cívico\, Paseo Del Muro\, 22 - 24\, Ejea de los Caballeros\, Zaragoza\, 50600
CATEGORIES:Conferencia,Portada
ATTACH;FMTTYPE=image/jpeg:https://st1.ejea.es/media/2025/02/Charla-sobre-Igualdad-05-03-24.jpeg
END:VEVENT
BEGIN:VEVENT
DTSTART;VALUE=DATE:20250306
DTEND;VALUE=DATE:20250401
DTSTAMP:20260425T234510
CREATED:20250317T121136Z
LAST-MODIFIED:20250325T103546Z
UID:43287-1741219200-1743465599@www.ejea.es
SUMMARY:Homenaje a pintoras de ayer y hoy
DESCRIPTION:Más información: https://st1.ejea.es/media/2025/03/8M-Ejea_Programacion_2025.pdf
URL:https://www.ejea.es/evento/homenaje-a-pintoras-de-ayer-y-hoy/
LOCATION:Hogar de Mayores de Ejea\, Delfin Bericat\, Ejea de los Caballeros\, Zaragoza\, 50600\, España
CATEGORIES:Exposición,Portada
ATTACH;FMTTYPE=image/jpeg:https://st1.ejea.es/media/2025/03/Pintoras-31-03-25.jpg
ORGANIZER;CN="Ayuntamiento de Ejea de los Caballeros":MAILTO:info@aytoejea.es
END:VEVENT
BEGIN:VEVENT
DTSTART;TZID=Europe/Madrid:20250315T213000
DTEND;TZID=Europe/Madrid:20250315T230000
DTSTAMP:20260425T234510
CREATED:20250304T133850Z
LAST-MODIFIED:20250306T114603Z
UID:42727-1742074200-1742079600@www.ejea.es
SUMMARY:Concierto Mujeres en Solfa
DESCRIPTION:Más información: Mujeres en solfa
URL:https://www.ejea.es/evento/concierto-mujeres-en-solfa/
LOCATION:Teatro de la Villa\, Plaza Virgen de la Oliva\, Ejea de los Caballeros\, Zaragoza\, 50600\, España
CATEGORIES:Música,Portada
ATTACH;FMTTYPE=image/jpeg:https://st1.ejea.es/media/2025/03/Mujeres-en-solfa-15-03-25.jpg
END:VEVENT
BEGIN:VEVENT
DTSTART;TZID=Europe/Madrid:20250320T193000
DTEND;TZID=Europe/Madrid:20250320T203000
DTSTAMP:20260425T234510
CREATED:20250312T131856Z
LAST-MODIFIED:20250312T131950Z
UID:43101-1742499000-1742502600@www.ejea.es
SUMMARY:Charla coloquio Ana Aznárez
DESCRIPTION:Más información:https://www.ejea.es/presentacion-del-cortometraje-documental-la-mia-voz-de-ana-aznarez-yera/
URL:https://www.ejea.es/evento/charla-coloquio-ana-aznarez/
LOCATION:Centro Cívico\, Paseo Del Muro\, 22 - 24\, Ejea de los Caballeros\, Zaragoza\, 50600
CATEGORIES:Conferencia,Cultura,Portada
ATTACH;FMTTYPE=image/jpeg:https://st1.ejea.es/media/2025/03/CARTEL.jpg
END:VEVENT
BEGIN:VEVENT
DTSTART;VALUE=DATE:20250321
DTEND;VALUE=DATE:20250407
DTSTAMP:20260425T234510
CREATED:20250318T112308Z
LAST-MODIFIED:20250319T091440Z
UID:43329-1742515200-1743983999@www.ejea.es
SUMMARY:VII Exposición fotográfica Semana Santa
DESCRIPTION:Más información: https://www.ejea.es/septima-edicion-de-la-exposicion-fotografica/
URL:https://www.ejea.es/evento/vii-exposicion-fotografica-semana-santa/
LOCATION:Sala Exposiciones Parroquia\, Mediavilla 41\, Ejea de los Caballeros\, Zaragoza\, 50600\, España
CATEGORIES:Exposición,Portada
ATTACH;FMTTYPE=image/jpeg:https://st1.ejea.es/media/2025/03/Exposicion-fotografias-06-04-25.jpg
END:VEVENT
BEGIN:VEVENT
DTSTART;TZID=Europe/Madrid:20250322T190000
DTEND;TZID=Europe/Madrid:20250322T203000
DTSTAMP:20260425T234510
CREATED:20250317T074127Z
LAST-MODIFIED:20250321T132323Z
UID:43255-1742670000-1742675400@www.ejea.es
SUMMARY:Concierto de La Mare
DESCRIPTION:Más información: https://www.ejea.es/la-mare-llega-a-farasdues-con-su-inconfundible-fusion-de-ritmos-y-poesia/
URL:https://www.ejea.es/evento/concierto-de-la-mare/
LOCATION:Farasdues\, España
CATEGORIES:Concierto,Portada
ATTACH;FMTTYPE=image/jpeg:https://st1.ejea.es/media/2025/03/La-Mare-22-03-25.jpg
ORGANIZER;CN="Ayuntamiento de Ejea de los Caballeros":MAILTO:info@aytoejea.es
END:VEVENT
BEGIN:VEVENT
DTSTART;TZID=Europe/Madrid:20250322T193000
DTEND;TZID=Europe/Madrid:20250322T203000
DTSTAMP:20260425T234510
CREATED:20250320T100836Z
LAST-MODIFIED:20250320T100836Z
UID:43396-1742671800-1742675400@www.ejea.es
SUMMARY:Teatro de Bardenas "Nochebuena en la comisaría"
DESCRIPTION:Más información: https://www.ejea.es/teatro-bardenas/
URL:https://www.ejea.es/evento/teatro-de-bardenas-nochebuena-en-la-comisaria/
LOCATION:Casino España\, Avda Cosculluela\, Ejea de los Caballeros\, 50600\, España
CATEGORIES:Cultura,Portada
ATTACH;FMTTYPE=image/jpeg:https://st1.ejea.es/media/2025/03/CARTEL-Nochebuena-en-la-Comisaria.jpg
ORGANIZER;CN="Ayuntamiento de Ejea de los Caballeros":MAILTO:info@aytoejea.es
END:VEVENT
BEGIN:VEVENT
DTSTART;TZID=Europe/Madrid:20250322T213000
DTEND;TZID=Europe/Madrid:20250322T223000
DTSTAMP:20260425T234510
CREATED:20250320T103754Z
LAST-MODIFIED:20250321T132402Z
UID:43404-1742679000-1742682600@www.ejea.es
SUMMARY:¡Madre mía! de Marisol Aznar
DESCRIPTION:Más información: https://www.ejea.es/madre-mia-marisol-aznar/
URL:https://www.ejea.es/evento/madre-mia-de-marisol-aznar/
LOCATION:Teatro de la Villa\, Plaza Virgen de la Oliva\, Ejea de los Caballeros\, Zaragoza\, 50600\, España
CATEGORIES:Cultura,Portada,Teatro
ATTACH;FMTTYPE=image/png:https://st1.ejea.es/media/2025/03/MARISOL-AZNAR-MADRE-MIA-1.png
ORGANIZER;CN="Ayuntamiento de Ejea de los Caballeros":MAILTO:info@aytoejea.es
END:VEVENT
BEGIN:VEVENT
DTSTART;TZID=Europe/Madrid:20250327T170000
DTEND;TZID=Europe/Madrid:20250327T180000
DTSTAMP:20260425T234510
CREATED:20250325T103252Z
LAST-MODIFIED:20250325T103252Z
UID:43554-1743094800-1743098400@www.ejea.es
SUMMARY:Conferencia de Rafael Sánchez
DESCRIPTION:Más información: https://www.ejea.es/conferencia-rafael-sanchez/
URL:https://www.ejea.es/evento/conferencia-de-rafael-sanchez/
LOCATION:Centro Cívico\, Paseo Del Muro\, 22 - 24\, Ejea de los Caballeros\, Zaragoza\, 50600
CATEGORIES:Conferencia,Portada
ATTACH;FMTTYPE=image/jpeg:https://st1.ejea.es/media/2025/03/25-03-27-cartel-Ejea-conf-Sanchez-001.jpg
ORGANIZER;CN="Ayuntamiento de Ejea de los Caballeros":MAILTO:info@aytoejea.es
END:VEVENT
BEGIN:VEVENT
DTSTART;TZID=Europe/Madrid:20250328T170000
DTEND;TZID=Europe/Madrid:20250328T180000
DTSTAMP:20260425T234510
CREATED:20250324T114216Z
LAST-MODIFIED:20250324T114304Z
UID:43529-1743181200-1743184800@www.ejea.es
SUMMARY:En pareja tras ser padres
DESCRIPTION:Más información: https://www.ejea.es/escuela-de-familias/ \nCartel 28 marzo
URL:https://www.ejea.es/evento/en-pareja-tras-ser-padres/
LOCATION:Aquagraria\, España
CATEGORIES:Conferencia,Portada
ATTACH;FMTTYPE=image/jpeg:https://st1.ejea.es/media/2025/03/cartel-AMALTEA-28-MARZO-2025-2-001.jpg
ORGANIZER;CN="Ayuntamiento de Ejea de los Caballeros":MAILTO:info@aytoejea.es
END:VEVENT
BEGIN:VEVENT
DTSTART;TZID=Europe/Madrid:20250329T200000
DTEND;TZID=Europe/Madrid:20250329T210000
DTSTAMP:20260425T234510
CREATED:20250310T112355Z
LAST-MODIFIED:20250328T073249Z
UID:42990-1743278400-1743282000@www.ejea.es
SUMMARY:Jotas de pasión
DESCRIPTION:JOTAS DE PASION 29-03-25
URL:https://www.ejea.es/evento/jotas-de-pasion/
LOCATION:Iglesia Virgen de La Oliva\, Plza de la Oliva\, Ejea de los Caballeros\, 50600\, España
CATEGORIES:Concierto,Portada
ATTACH;FMTTYPE=image/jpeg:https://st1.ejea.es/media/2025/03/JOTAS-DE-PASION-29-03-25.jpg
END:VEVENT
BEGIN:VEVENT
DTSTART;TZID=Europe/Madrid:20250330T193000
DTEND;TZID=Europe/Madrid:20250330T213000
DTSTAMP:20260425T234510
CREATED:20250310T112039Z
LAST-MODIFIED:20250328T132743Z
UID:42986-1743363000-1743370200@www.ejea.es
SUMMARY:Concierto Marchas de Procesión
DESCRIPTION:Concierto Banda Municipal 30-03-25
URL:https://www.ejea.es/evento/concierto-marchas-de-procesion/
LOCATION:Casino España\, Avda Cosculluela\, Ejea de los Caballeros\, 50600\, España
CATEGORIES:Concierto
ATTACH;FMTTYPE=image/jpeg:https://st1.ejea.es/media/2025/03/Conciero-Banda-Municipal-30-03-25.jpg
END:VEVENT
END:VCALENDAR