BEGIN:VCALENDAR
VERSION:2.0
PRODID:-//Ayuntamiento de Ejea de los Caballeros - ECPv6.15.15//NONSGML v1.0//EN
CALSCALE:GREGORIAN
METHOD:PUBLISH
X-ORIGINAL-URL:https://www.ejea.es
X-WR-CALDESC:Eventos para Ayuntamiento de Ejea de los Caballeros
REFRESH-INTERVAL;VALUE=DURATION:PT1H
X-Robots-Tag:noindex
X-PUBLISHED-TTL:PT1H
BEGIN:VTIMEZONE
TZID:Europe/Madrid
BEGIN:DAYLIGHT
TZOFFSETFROM:+0100
TZOFFSETTO:+0200
TZNAME:CEST
DTSTART:20240331T010000
END:DAYLIGHT
BEGIN:STANDARD
TZOFFSETFROM:+0200
TZOFFSETTO:+0100
TZNAME:CET
DTSTART:20241027T010000
END:STANDARD
BEGIN:DAYLIGHT
TZOFFSETFROM:+0100
TZOFFSETTO:+0200
TZNAME:CEST
DTSTART:20250330T010000
END:DAYLIGHT
BEGIN:STANDARD
TZOFFSETFROM:+0200
TZOFFSETTO:+0100
TZNAME:CET
DTSTART:20251026T010000
END:STANDARD
BEGIN:DAYLIGHT
TZOFFSETFROM:+0100
TZOFFSETTO:+0200
TZNAME:CEST
DTSTART:20260329T010000
END:DAYLIGHT
BEGIN:STANDARD
TZOFFSETFROM:+0200
TZOFFSETTO:+0100
TZNAME:CET
DTSTART:20261025T010000
END:STANDARD
END:VTIMEZONE
BEGIN:VEVENT
DTSTART;VALUE=DATE:20250321
DTEND;VALUE=DATE:20250407
DTSTAMP:20260426T011216
CREATED:20250318T112308Z
LAST-MODIFIED:20250319T091440Z
UID:43329-1742515200-1743983999@www.ejea.es
SUMMARY:VII Exposición fotográfica Semana Santa
DESCRIPTION:Más información: https://www.ejea.es/septima-edicion-de-la-exposicion-fotografica/
URL:https://www.ejea.es/evento/vii-exposicion-fotografica-semana-santa/
LOCATION:Sala Exposiciones Parroquia\, Mediavilla 41\, Ejea de los Caballeros\, Zaragoza\, 50600\, España
CATEGORIES:Exposición,Portada
ATTACH;FMTTYPE=image/jpeg:https://st1.ejea.es/media/2025/03/Exposicion-fotografias-06-04-25.jpg
END:VEVENT
BEGIN:VEVENT
DTSTART;TZID=Europe/Madrid:20250405T160000
DTEND;TZID=Europe/Madrid:20250405T200000
DTSTAMP:20260426T011216
CREATED:20250310T115503Z
LAST-MODIFIED:20250331T054219Z
UID:42994-1743868800-1743883200@www.ejea.es
SUMMARY:Concurso de Tambores y Bombos
DESCRIPTION:Concurso de Bombos 05-04-25
URL:https://www.ejea.es/evento/concurso-de-tambores-y-bombos/
LOCATION:Plaza de la Villa\, Plaza de la Villa\, Ejea de los Caballeros\, Zaragoza\, 50600\, España
CATEGORIES:Cultura,Portada
ATTACH;FMTTYPE=image/jpeg:https://st1.ejea.es/media/2025/03/Concurso-de-Bombos-05-04-25.jpeg
END:VEVENT
BEGIN:VEVENT
DTSTART;VALUE=DATE:20250411
DTEND;VALUE=DATE:20250421
DTSTAMP:20260426T011216
CREATED:20250324T104157Z
LAST-MODIFIED:20250331T054245Z
UID:43512-1744329600-1745193599@www.ejea.es
SUMMARY:Semana Santa 2025
DESCRIPTION:Más información: https://www.ejea.es/semana-santa-2025/ \nPrograma Semana Santa 2025
URL:https://www.ejea.es/evento/semana-santa-2025/
LOCATION:Ejea de los Caballeros\, Ejea de los Caballeros\, Ejea de los Caballeros\, Zaragoza\, 50600\, España
CATEGORIES:Cultura,Portada
ATTACH;FMTTYPE=image/jpeg:https://st1.ejea.es/media/2025/03/Cartel-Semana-Santa-Ejea-20-04-25.jpg
END:VEVENT
BEGIN:VEVENT
DTSTART;TZID=Europe/Madrid:20250415T180000
DTEND;TZID=Europe/Madrid:20250415T190000
DTSTAMP:20260426T011216
CREATED:20250409T080830Z
LAST-MODIFIED:20250410T072141Z
UID:44082-1744740000-1744743600@www.ejea.es
SUMMARY:Teatro: Los paraguas de Satie
DESCRIPTION:Más información:  Cartel teatro
URL:https://www.ejea.es/evento/teatro-los-paraguas-de-satie/
LOCATION:Teatro de la Villa\, Plaza Virgen de la Oliva\, Ejea de los Caballeros\, Zaragoza\, 50600\, España
CATEGORIES:Portada,Teatro
ATTACH;FMTTYPE=image/png:https://st1.ejea.es/media/2025/04/paraguas2.png
ORGANIZER;CN="Ayuntamiento de Ejea de los Caballeros":MAILTO:info@aytoejea.es
END:VEVENT
BEGIN:VEVENT
DTSTART;VALUE=DATE:20250423
DTEND;VALUE=DATE:20250424
DTSTAMP:20260426T011216
CREATED:20250416T115308Z
LAST-MODIFIED:20250416T115308Z
UID:44320-1745366400-1745452799@www.ejea.es
SUMMARY:San Jorge y Día del Libro
DESCRIPTION:Más información: https://www.ejea.es/23-de-abril-patron-de-aragon-y-el-dia-del-libro/
URL:https://www.ejea.es/evento/san-jorge-y-dia-del-libro/
LOCATION:Plaza de la Villa\, Plaza de la Villa\, Ejea de los Caballeros\, Zaragoza\, 50600\, España
CATEGORIES:Cultura,Portada
ATTACH;FMTTYPE=image/jpeg:https://st1.ejea.es/media/2025/04/EJEA-San-Jorge-2025-cartel-23-04-25.jpg
ORGANIZER;CN="Ayuntamiento de Ejea de los Caballeros":MAILTO:info@aytoejea.es
END:VEVENT
BEGIN:VEVENT
DTSTART;VALUE=DATE:20250425
DTEND;VALUE=DATE:20250428
DTSTAMP:20260426T011216
CREATED:20250414T102708Z
LAST-MODIFIED:20250415T114044Z
UID:44228-1745539200-1745798399@www.ejea.es
SUMMARY:51ª Certamen Coral
DESCRIPTION:Más información: https://www.ejea.es/venta-de-entradas-51-certamen-coral-de-ejea/
URL:https://www.ejea.es/evento/51a-certamen-coral/
LOCATION:Polideportivo Municipal\, Ejea de los Caballeros\, España
CATEGORIES:Cultura,Música,Portada
ATTACH;FMTTYPE=image/jpeg:https://st1.ejea.es/media/2025/04/certamen-coral-27-04-25_2.jpg
END:VEVENT
BEGIN:VEVENT
DTSTART;VALUE=DATE:20250425
DTEND;VALUE=DATE:20250428
DTSTAMP:20260426T011216
CREATED:20250421T072907Z
LAST-MODIFIED:20250421T072907Z
UID:44380-1745539200-1745798399@www.ejea.es
SUMMARY:Fiestas del Agua 2025
DESCRIPTION:Más información: https://www.ejea.es/fiestas-del-agua-2025/
URL:https://www.ejea.es/evento/fiestas-del-agua-2025/
LOCATION:Ejea de los Caballeros\, Ejea de los Caballeros\, Ejea de los Caballeros\, Zaragoza\, 50600\, España
CATEGORIES:Cultura,Portada
ATTACH;FMTTYPE=image/jpeg:https://st1.ejea.es/media/2025/04/FIESTAS-DEL-AGUA-2025-cartel-001.jpg
ORGANIZER;CN="Ayuntamiento de Ejea de los Caballeros":MAILTO:info@aytoejea.es
END:VEVENT
BEGIN:VEVENT
DTSTART;TZID=Europe/Madrid:20250430T080000
DTEND;TZID=Europe/Madrid:20250530T170000
DTSTAMP:20260426T011216
CREATED:20250414T103057Z
LAST-MODIFIED:20250429T074828Z
UID:44232-1746000000-1748624400@www.ejea.es
SUMMARY:LOCUS AMOENUS: Paisajes de Aragón
DESCRIPTION:Más información: https://extension.uned.es/actividad/idactividad/44509
URL:https://www.ejea.es/evento/locus-amoenus-paisajes-de-aragon/
LOCATION:Sala Exposiciones Parroquia\, Mediavilla 41\, Ejea de los Caballeros\, Zaragoza\, 50600\, España
CATEGORIES:Exposición,Portada
ATTACH;FMTTYPE=image/jpeg:https://st1.ejea.es/media/2025/04/MUPI-EXPO-DANI-VERA-EJEA.jpg
END:VEVENT
END:VCALENDAR