BEGIN:VCALENDAR
VERSION:2.0
PRODID:-//Ayuntamiento de Ejea de los Caballeros - ECPv6.15.15//NONSGML v1.0//EN
CALSCALE:GREGORIAN
METHOD:PUBLISH
X-ORIGINAL-URL:https://www.ejea.es
X-WR-CALDESC:Eventos para Ayuntamiento de Ejea de los Caballeros
REFRESH-INTERVAL;VALUE=DURATION:PT1H
X-Robots-Tag:noindex
X-PUBLISHED-TTL:PT1H
BEGIN:VTIMEZONE
TZID:Europe/Madrid
BEGIN:DAYLIGHT
TZOFFSETFROM:+0100
TZOFFSETTO:+0200
TZNAME:CEST
DTSTART:20210328T010000
END:DAYLIGHT
BEGIN:STANDARD
TZOFFSETFROM:+0200
TZOFFSETTO:+0100
TZNAME:CET
DTSTART:20211031T010000
END:STANDARD
BEGIN:DAYLIGHT
TZOFFSETFROM:+0100
TZOFFSETTO:+0200
TZNAME:CEST
DTSTART:20220327T010000
END:DAYLIGHT
BEGIN:STANDARD
TZOFFSETFROM:+0200
TZOFFSETTO:+0100
TZNAME:CET
DTSTART:20221030T010000
END:STANDARD
BEGIN:DAYLIGHT
TZOFFSETFROM:+0100
TZOFFSETTO:+0200
TZNAME:CEST
DTSTART:20230326T010000
END:DAYLIGHT
BEGIN:STANDARD
TZOFFSETFROM:+0200
TZOFFSETTO:+0100
TZNAME:CET
DTSTART:20231029T010000
END:STANDARD
END:VTIMEZONE
BEGIN:VEVENT
DTSTART;TZID=Europe/Madrid:20221107T200000
DTEND;TZID=Europe/Madrid:20221107T213000
DTSTAMP:20260425T223233
CREATED:20221104T085034Z
LAST-MODIFIED:20221107T094328Z
UID:22596-1667851200-1667856600@www.ejea.es
SUMMARY:Encuentro con la autora de novela negra y policía científica Camino Díaz
DESCRIPTION:
URL:https://www.ejea.es/evento/encuentro-con-la-autora-de-novela-negra-y-policia-cientifica-camino-diaz-presentado-por-el-escritor-juan-bolea-el-lunes-dia-7/
LOCATION:Centro Cívico\, Paseo Del Muro\, 22 - 24\, Ejea de los Caballeros\, Zaragoza\, 50600
CATEGORIES:Conferencia,Cultura
ATTACH;FMTTYPE=image/jpeg:https://st1.ejea.es/media/2022/11/Camino-Diaz-web-221107-6364d18179aca.jpg
ORGANIZER;CN="Ayuntamiento de Ejea de los Caballeros":MAILTO:info@aytoejea.es
END:VEVENT
BEGIN:VEVENT
DTSTART;TZID=Europe/Madrid:20221128T170000
DTEND;TZID=Europe/Madrid:20221128T180000
DTSTAMP:20260425T223233
CREATED:20221128T084547Z
LAST-MODIFIED:20221128T084547Z
UID:23118-1669654800-1669658400@www.ejea.es
SUMMARY:Conferencia "Compras seguras por internet" de la Universidad de la Experiencia
DESCRIPTION:
URL:https://www.ejea.es/evento/conferencia-compras-seguras-por-internet-de-la-universidad-de-la-experiencia/
LOCATION:Centro Cívico\, Paseo Del Muro\, 22 - 24\, Ejea de los Caballeros\, Zaragoza\, 50600
CATEGORIES:Conferencia,Cultura
ATTACH;FMTTYPE=image/jpeg:https://st1.ejea.es/media/2022/11/22-11-28-cartel-consumo-Ejea-001.jpg
END:VEVENT
END:VCALENDAR