BEGIN:VCALENDAR
VERSION:2.0
PRODID:-//Ayuntamiento de Ejea de los Caballeros - ECPv6.15.15//NONSGML v1.0//EN
CALSCALE:GREGORIAN
METHOD:PUBLISH
X-WR-CALNAME:Ayuntamiento de Ejea de los Caballeros
X-ORIGINAL-URL:https://www.ejea.es
X-WR-CALDESC:Eventos para Ayuntamiento de Ejea de los Caballeros
REFRESH-INTERVAL;VALUE=DURATION:PT1H
X-Robots-Tag:noindex
X-PUBLISHED-TTL:PT1H
BEGIN:VTIMEZONE
TZID:Europe/Madrid
BEGIN:DAYLIGHT
TZOFFSETFROM:+0100
TZOFFSETTO:+0200
TZNAME:CEST
DTSTART:20220327T010000
END:DAYLIGHT
BEGIN:STANDARD
TZOFFSETFROM:+0200
TZOFFSETTO:+0100
TZNAME:CET
DTSTART:20221030T010000
END:STANDARD
BEGIN:DAYLIGHT
TZOFFSETFROM:+0100
TZOFFSETTO:+0200
TZNAME:CEST
DTSTART:20230326T010000
END:DAYLIGHT
BEGIN:STANDARD
TZOFFSETFROM:+0200
TZOFFSETTO:+0100
TZNAME:CET
DTSTART:20231029T010000
END:STANDARD
BEGIN:DAYLIGHT
TZOFFSETFROM:+0100
TZOFFSETTO:+0200
TZNAME:CEST
DTSTART:20240331T010000
END:DAYLIGHT
BEGIN:STANDARD
TZOFFSETFROM:+0200
TZOFFSETTO:+0100
TZNAME:CET
DTSTART:20241027T010000
END:STANDARD
END:VTIMEZONE
BEGIN:VEVENT
DTSTART;TZID=Europe/Madrid:20230202T170000
DTEND;TZID=Europe/Madrid:20230202T180000
DTSTAMP:20260425T184044
CREATED:20230201T074256Z
LAST-MODIFIED:20230201T074256Z
UID:24982-1675357200-1675360800@www.ejea.es
SUMMARY:Conferencia Universidad de la Experiencia "Los entresijos del Milagro Griego: Sociogénesis de la Filosofía Occidental"
DESCRIPTION:Del profesor Jorge Otín Gavín- Universidad de la Experiencia
URL:https://www.ejea.es/evento/conferencia-universidad-de-la-experiencia-los-entresijos-del-milagro-griego-sociogenesis-de-la-filosofia-occidental/
LOCATION:Centro Cívico\, Paseo Del Muro\, 22 - 24\, Ejea de los Caballeros\, Zaragoza\, 50600
CATEGORIES:Conferencia,Cultura
ATTACH;FMTTYPE=image/jpeg:https://st1.ejea.es/media/2023/02/Conferencia-Otín-Ejea.jpg
ORGANIZER;CN="Ayuntamiento de Ejea de los Caballeros":MAILTO:info@aytoejea.es
END:VEVENT
END:VCALENDAR