BEGIN:VCALENDAR
VERSION:2.0
PRODID:-//Ayuntamiento de Ejea de los Caballeros - ECPv6.15.15//NONSGML v1.0//EN
CALSCALE:GREGORIAN
METHOD:PUBLISH
X-ORIGINAL-URL:https://www.ejea.es
X-WR-CALDESC:Eventos para Ayuntamiento de Ejea de los Caballeros
REFRESH-INTERVAL;VALUE=DURATION:PT1H
X-Robots-Tag:noindex
X-PUBLISHED-TTL:PT1H
BEGIN:VTIMEZONE
TZID:Europe/Madrid
BEGIN:DAYLIGHT
TZOFFSETFROM:+0100
TZOFFSETTO:+0200
TZNAME:CEST
DTSTART:20220327T010000
END:DAYLIGHT
BEGIN:STANDARD
TZOFFSETFROM:+0200
TZOFFSETTO:+0100
TZNAME:CET
DTSTART:20221030T010000
END:STANDARD
BEGIN:DAYLIGHT
TZOFFSETFROM:+0100
TZOFFSETTO:+0200
TZNAME:CEST
DTSTART:20230326T010000
END:DAYLIGHT
BEGIN:STANDARD
TZOFFSETFROM:+0200
TZOFFSETTO:+0100
TZNAME:CET
DTSTART:20231029T010000
END:STANDARD
BEGIN:DAYLIGHT
TZOFFSETFROM:+0100
TZOFFSETTO:+0200
TZNAME:CEST
DTSTART:20240331T010000
END:DAYLIGHT
BEGIN:STANDARD
TZOFFSETFROM:+0200
TZOFFSETTO:+0100
TZNAME:CET
DTSTART:20241027T010000
END:STANDARD
END:VTIMEZONE
BEGIN:VEVENT
DTSTART;TZID=Europe/Madrid:20230301T170000
DTEND;TZID=Europe/Madrid:20230301T170000
DTSTAMP:20260425T172117
CREATED:20230227T081424Z
LAST-MODIFIED:20230227T081424Z
UID:25712-1677690000-1677690000@www.ejea.es
SUMMARY:“Pilar Narvión\, pionera de la Prensa Española”: Conferencia de la Universidad de la Experiencia impartida por la periodista Eva Defior Grávalos
DESCRIPTION:
URL:https://www.ejea.es/evento/pilar-narvion-pionera-de-la-prensa-espanola-conferencia-de-la-universidad-de-la-experiencia-impartida-por-la-periodista-eva-defior-gravalos/
LOCATION:Centro Cívico\, Paseo Del Muro\, 22 - 24\, Ejea de los Caballeros\, Zaragoza\, 50600
CATEGORIES:Conferencia,Cultura
ATTACH;FMTTYPE=image/jpeg:https://st1.ejea.es/media/2023/02/Cartel-Ejea-Defior.jpg
END:VEVENT
BEGIN:VEVENT
DTSTART;TZID=Europe/Madrid:20230302T170000
DTEND;TZID=Europe/Madrid:20230302T170000
DTSTAMP:20260425T172117
CREATED:20230228T085534Z
LAST-MODIFIED:20230228T085534Z
UID:25753-1677776400-1677776400@www.ejea.es
SUMMARY:Estatuto de Autonomía de Aragón: 40 años de autogobierno y progreso”: Conferencia de la Universidad de la Experiencia impartida por José Luis Andrés
DESCRIPTION:
URL:https://www.ejea.es/evento/estatuto-de-autonomia-de-aragon-40-anos-de-autogobierno-y-progreso-conferencia-de-la-universidad-de-la-experiencia-impartida-por-jose-luis-andres/
LOCATION:Universidad experiencia
CATEGORIES:Conferencia,Cultura
ATTACH;FMTTYPE=image/jpeg:https://st1.ejea.es/media/2023/02/23-03-02-cartel-Estatuto-Ejea-001.jpg
END:VEVENT
BEGIN:VEVENT
DTSTART;TZID=Europe/Madrid:20230318T173000
DTEND;TZID=Europe/Madrid:20230318T173000
DTSTAMP:20260425T172117
CREATED:20230314T120122Z
LAST-MODIFIED:20230314T120148Z
UID:26107-1679160600-1679160600@www.ejea.es
SUMMARY:Escuela de Familias
DESCRIPTION:https://www.ejea.es/escuela-de-familias-taller-de-musicoterapia-y-charla-sobre-educacion/
URL:https://www.ejea.es/evento/escuela-de-familias/
LOCATION:Aquagraria\, España
CATEGORIES:Conferencia
ATTACH;FMTTYPE=image/png:https://st1.ejea.es/media/2023/03/1.png
ORGANIZER;CN="Ayuntamiento de Ejea de los Caballeros":MAILTO:info@aytoejea.es
END:VEVENT
END:VCALENDAR