BEGIN:VCALENDAR
VERSION:2.0
PRODID:-//Ayuntamiento de Ejea de los Caballeros - ECPv6.15.15//NONSGML v1.0//EN
CALSCALE:GREGORIAN
METHOD:PUBLISH
X-ORIGINAL-URL:https://www.ejea.es
X-WR-CALDESC:Eventos para Ayuntamiento de Ejea de los Caballeros
REFRESH-INTERVAL;VALUE=DURATION:PT1H
X-Robots-Tag:noindex
X-PUBLISHED-TTL:PT1H
BEGIN:VTIMEZONE
TZID:Europe/Madrid
BEGIN:DAYLIGHT
TZOFFSETFROM:+0100
TZOFFSETTO:+0200
TZNAME:CEST
DTSTART:20230326T010000
END:DAYLIGHT
BEGIN:STANDARD
TZOFFSETFROM:+0200
TZOFFSETTO:+0100
TZNAME:CET
DTSTART:20231029T010000
END:STANDARD
BEGIN:DAYLIGHT
TZOFFSETFROM:+0100
TZOFFSETTO:+0200
TZNAME:CEST
DTSTART:20240331T010000
END:DAYLIGHT
BEGIN:STANDARD
TZOFFSETFROM:+0200
TZOFFSETTO:+0100
TZNAME:CET
DTSTART:20241027T010000
END:STANDARD
BEGIN:DAYLIGHT
TZOFFSETFROM:+0100
TZOFFSETTO:+0200
TZNAME:CEST
DTSTART:20250330T010000
END:DAYLIGHT
BEGIN:STANDARD
TZOFFSETFROM:+0200
TZOFFSETTO:+0100
TZNAME:CET
DTSTART:20251026T010000
END:STANDARD
END:VTIMEZONE
BEGIN:VEVENT
DTSTART;TZID=Europe/Madrid:20241108T200000
DTEND;TZID=Europe/Madrid:20241108T200000
DTSTAMP:20260425T184102
CREATED:20241104T104838Z
LAST-MODIFIED:20241104T104838Z
UID:40420-1731096000-1731096000@www.ejea.es
SUMMARY:Concierto solidario Cruz Roja\, damnificados DANA
DESCRIPTION:
URL:https://www.ejea.es/evento/concierto-solidario-cruz-roja-damnificados-dana/
LOCATION:Casino España\, Avda Cosculluela\, Ejea de los Caballeros\, 50600\, España
CATEGORIES:Concierto,Portada
ATTACH;FMTTYPE=image/jpeg:https://st1.ejea.es/media/2024/11/Evento-Solidario-con-Cruz-Roja-08-11-24-scaled.jpg
END:VEVENT
END:VCALENDAR