BEGIN:VCALENDAR
VERSION:2.0
PRODID:-//Ayuntamiento de Ejea de los Caballeros - ECPv6.15.15//NONSGML v1.0//EN
CALSCALE:GREGORIAN
METHOD:PUBLISH
X-ORIGINAL-URL:https://www.ejea.es
X-WR-CALDESC:Eventos para Ayuntamiento de Ejea de los Caballeros
REFRESH-INTERVAL;VALUE=DURATION:PT1H
X-Robots-Tag:noindex
X-PUBLISHED-TTL:PT1H
BEGIN:VTIMEZONE
TZID:Europe/Madrid
BEGIN:DAYLIGHT
TZOFFSETFROM:+0100
TZOFFSETTO:+0200
TZNAME:CEST
DTSTART:20230326T010000
END:DAYLIGHT
BEGIN:STANDARD
TZOFFSETFROM:+0200
TZOFFSETTO:+0100
TZNAME:CET
DTSTART:20231029T010000
END:STANDARD
BEGIN:DAYLIGHT
TZOFFSETFROM:+0100
TZOFFSETTO:+0200
TZNAME:CEST
DTSTART:20240331T010000
END:DAYLIGHT
BEGIN:STANDARD
TZOFFSETFROM:+0200
TZOFFSETTO:+0100
TZNAME:CET
DTSTART:20241027T010000
END:STANDARD
BEGIN:DAYLIGHT
TZOFFSETFROM:+0100
TZOFFSETTO:+0200
TZNAME:CEST
DTSTART:20250330T010000
END:DAYLIGHT
BEGIN:STANDARD
TZOFFSETFROM:+0200
TZOFFSETTO:+0100
TZNAME:CET
DTSTART:20251026T010000
END:STANDARD
END:VTIMEZONE
BEGIN:VEVENT
DTSTART;TZID=Europe/Madrid:20241217T170000
DTEND;TZID=Europe/Madrid:20241217T190000
DTSTAMP:20260425T211542
CREATED:20241216T122048Z
LAST-MODIFIED:20241216T122048Z
UID:41337-1734454800-1734462000@www.ejea.es
SUMMARY:Concierto de Villancicos
DESCRIPTION:
URL:https://www.ejea.es/evento/concierto-de-villancicos/
CATEGORIES:Concierto,Cultura,Portada
ATTACH;FMTTYPE=image/png:https://st1.ejea.es/media/2024/12/VILLANCICOS-ESCUELA-FOLKLORE-17-12-24.png
ORGANIZER;CN="Ayuntamiento de Ejea de los Caballeros":MAILTO:info@aytoejea.es
END:VEVENT
END:VCALENDAR