BEGIN:VCALENDAR
VERSION:2.0
PRODID:-//Ayuntamiento de Ejea de los Caballeros - ECPv6.15.15//NONSGML v1.0//EN
CALSCALE:GREGORIAN
METHOD:PUBLISH
X-WR-CALNAME:Ayuntamiento de Ejea de los Caballeros
X-ORIGINAL-URL:https://www.ejea.es
X-WR-CALDESC:Eventos para Ayuntamiento de Ejea de los Caballeros
REFRESH-INTERVAL;VALUE=DURATION:PT1H
X-Robots-Tag:noindex
X-PUBLISHED-TTL:PT1H
BEGIN:VTIMEZONE
TZID:Europe/Madrid
BEGIN:DAYLIGHT
TZOFFSETFROM:+0100
TZOFFSETTO:+0200
TZNAME:CEST
DTSTART:20230326T010000
END:DAYLIGHT
BEGIN:STANDARD
TZOFFSETFROM:+0200
TZOFFSETTO:+0100
TZNAME:CET
DTSTART:20231029T010000
END:STANDARD
BEGIN:DAYLIGHT
TZOFFSETFROM:+0100
TZOFFSETTO:+0200
TZNAME:CEST
DTSTART:20240331T010000
END:DAYLIGHT
BEGIN:STANDARD
TZOFFSETFROM:+0200
TZOFFSETTO:+0100
TZNAME:CET
DTSTART:20241027T010000
END:STANDARD
BEGIN:DAYLIGHT
TZOFFSETFROM:+0100
TZOFFSETTO:+0200
TZNAME:CEST
DTSTART:20250330T010000
END:DAYLIGHT
BEGIN:STANDARD
TZOFFSETFROM:+0200
TZOFFSETTO:+0100
TZNAME:CET
DTSTART:20251026T010000
END:STANDARD
END:VTIMEZONE
BEGIN:VEVENT
DTSTART;TZID=Europe/Madrid:20241220T200000
DTEND;TZID=Europe/Madrid:20241220T213000
DTSTAMP:20260425T195946
CREATED:20241217T133400Z
LAST-MODIFIED:20241217T133400Z
UID:41381-1734724800-1734730200@www.ejea.es
SUMMARY:Concierto de Coros Juveniles
DESCRIPTION:
URL:https://www.ejea.es/evento/concierto-de-coros-juveniles/
LOCATION:Iglesia El Salvador\, Pº del Muro\, Ejea de los Caballeros\, 50600\, España
CATEGORIES:Concierto,Cultura,Portada
ATTACH;FMTTYPE=image/png:https://st1.ejea.es/media/2024/12/COROS-JUVENILES-IES-RRCC-20-12-24.png
END:VEVENT
END:VCALENDAR