BEGIN:VCALENDAR
VERSION:2.0
PRODID:-//Ayuntamiento de Ejea de los Caballeros - ECPv6.15.15//NONSGML v1.0//EN
CALSCALE:GREGORIAN
METHOD:PUBLISH
X-ORIGINAL-URL:https://www.ejea.es
X-WR-CALDESC:Eventos para Ayuntamiento de Ejea de los Caballeros
REFRESH-INTERVAL;VALUE=DURATION:PT1H
X-Robots-Tag:noindex
X-PUBLISHED-TTL:PT1H
BEGIN:VTIMEZONE
TZID:Europe/Madrid
BEGIN:DAYLIGHT
TZOFFSETFROM:+0100
TZOFFSETTO:+0200
TZNAME:CEST
DTSTART:20230326T010000
END:DAYLIGHT
BEGIN:STANDARD
TZOFFSETFROM:+0200
TZOFFSETTO:+0100
TZNAME:CET
DTSTART:20231029T010000
END:STANDARD
BEGIN:DAYLIGHT
TZOFFSETFROM:+0100
TZOFFSETTO:+0200
TZNAME:CEST
DTSTART:20240331T010000
END:DAYLIGHT
BEGIN:STANDARD
TZOFFSETFROM:+0200
TZOFFSETTO:+0100
TZNAME:CET
DTSTART:20241027T010000
END:STANDARD
BEGIN:DAYLIGHT
TZOFFSETFROM:+0100
TZOFFSETTO:+0200
TZNAME:CEST
DTSTART:20250330T010000
END:DAYLIGHT
BEGIN:STANDARD
TZOFFSETFROM:+0200
TZOFFSETTO:+0100
TZNAME:CET
DTSTART:20251026T010000
END:STANDARD
BEGIN:DAYLIGHT
TZOFFSETFROM:+0100
TZOFFSETTO:+0200
TZNAME:CEST
DTSTART:20260329T010000
END:DAYLIGHT
BEGIN:STANDARD
TZOFFSETFROM:+0200
TZOFFSETTO:+0100
TZNAME:CET
DTSTART:20261025T010000
END:STANDARD
END:VTIMEZONE
BEGIN:VEVENT
DTSTART;VALUE=DATE:20241222
DTEND;VALUE=DATE:20250201
DTSTAMP:20260425T212023
CREATED:20241217T134631Z
LAST-MODIFIED:20241217T134631Z
UID:41384-1734825600-1738367999@www.ejea.es
SUMMARY:Exposición indumentaria aragonesa "El Estilo de mi tierra"
DESCRIPTION:
URL:https://www.ejea.es/evento/exposicion-indumentaria-aragonesa-el-estilo-de-mi-tierra/
LOCATION:Sala Exposiciones Parroquia\, Mediavilla 41\, Ejea de los Caballeros\, Zaragoza\, 50600\, España
CATEGORIES:Cultura,Exposición,Portada
ATTACH;FMTTYPE=image/jpeg:https://st1.ejea.es/media/2024/12/Cartel-exposicion-Indumentaria-31-01-25.jpeg
END:VEVENT
BEGIN:VEVENT
DTSTART;TZID=Europe/Madrid:20241228T200000
DTEND;TZID=Europe/Madrid:20241228T220000
DTSTAMP:20260425T212023
CREATED:20241211T173733Z
LAST-MODIFIED:20241211T173733Z
UID:41278-1735416000-1735423200@www.ejea.es
SUMMARY:Concierto de Navidad - Banda Ejea
DESCRIPTION:
URL:https://www.ejea.es/evento/concierto-de-navidad-banda-ejea/
LOCATION:Casino España\, Avda Cosculluela\, Ejea de los Caballeros\, 50600\, España
CATEGORIES:Concierto,Cultura,Portada
ATTACH;FMTTYPE=image/jpeg:https://st1.ejea.es/media/2024/12/Concierto-Navidad-28-12-24.jpg
ORGANIZER;CN="Ayuntamiento de Ejea de los Caballeros":MAILTO:info@aytoejea.es
END:VEVENT
END:VCALENDAR