BEGIN:VCALENDAR
VERSION:2.0
PRODID:-//Ayuntamiento de Ejea de los Caballeros - ECPv6.15.15//NONSGML v1.0//EN
CALSCALE:GREGORIAN
METHOD:PUBLISH
X-WR-CALNAME:Ayuntamiento de Ejea de los Caballeros
X-ORIGINAL-URL:https://www.ejea.es
X-WR-CALDESC:Eventos para Ayuntamiento de Ejea de los Caballeros
REFRESH-INTERVAL;VALUE=DURATION:PT1H
X-Robots-Tag:noindex
X-PUBLISHED-TTL:PT1H
BEGIN:VTIMEZONE
TZID:Europe/Madrid
BEGIN:DAYLIGHT
TZOFFSETFROM:+0100
TZOFFSETTO:+0200
TZNAME:CEST
DTSTART:20250330T010000
END:DAYLIGHT
BEGIN:STANDARD
TZOFFSETFROM:+0200
TZOFFSETTO:+0100
TZNAME:CET
DTSTART:20251026T010000
END:STANDARD
BEGIN:DAYLIGHT
TZOFFSETFROM:+0100
TZOFFSETTO:+0200
TZNAME:CEST
DTSTART:20260329T010000
END:DAYLIGHT
BEGIN:STANDARD
TZOFFSETFROM:+0200
TZOFFSETTO:+0100
TZNAME:CET
DTSTART:20261025T010000
END:STANDARD
BEGIN:DAYLIGHT
TZOFFSETFROM:+0100
TZOFFSETTO:+0200
TZNAME:CEST
DTSTART:20270328T010000
END:DAYLIGHT
BEGIN:STANDARD
TZOFFSETFROM:+0200
TZOFFSETTO:+0100
TZNAME:CET
DTSTART:20271031T010000
END:STANDARD
END:VTIMEZONE
BEGIN:VEVENT
DTSTART;VALUE=DATE:20260307
DTEND;VALUE=DATE:20260309
DTSTAMP:20260425T132813
CREATED:20260224T072026Z
LAST-MODIFIED:20260224T072026Z
UID:50398-1772841600-1773014399@www.ejea.es
SUMMARY:Festival de Jotas de Pinsoro
DESCRIPTION:
URL:https://www.ejea.es/evento/festival-de-jotas-de-pinsoro/
LOCATION:Pinsoro\, 50694\, España
CATEGORIES:Cultura,Danza,Portada
ATTACH;FMTTYPE=image/jpeg:https://st1.ejea.es/media/2026/02/Cartel-jotas-Pinsoro-07-03-26-001-scaled.jpg
END:VEVENT
BEGIN:VEVENT
DTSTART;VALUE=DATE:20260319
DTEND;VALUE=DATE:20260614
DTSTAMP:20260425T132813
CREATED:20260319T073440Z
LAST-MODIFIED:20260319T073440Z
UID:50831-1773878400-1781395199@www.ejea.es
SUMMARY:Primavera Cultural Ejea 2026
DESCRIPTION:Programación
URL:https://www.ejea.es/evento/primavera-cultural-ejea-2026/
LOCATION:Zaragoza
CATEGORIES:Cultura,Portada
ATTACH;FMTTYPE=image/jpeg:https://st1.ejea.es/media/2026/03/Celebrando-la-Primavera-2026-CARTEL-OK-001.jpg
END:VEVENT
BEGIN:VEVENT
DTSTART;TZID=Europe/Madrid:20260320T180000
DTEND;TZID=Europe/Madrid:20260320T193000
DTSTAMP:20260425T132813
CREATED:20260313T073204Z
LAST-MODIFIED:20260313T073204Z
UID:50727-1774029600-1774035000@www.ejea.es
SUMMARY:Teatro "Improlove" en Valareña
DESCRIPTION:Toda la información aquí.
URL:https://www.ejea.es/evento/teatro-improlove-en-valarena/
LOCATION:Valareña\, 50617\, España
CATEGORIES:Cultura,Portada,Teatro
ATTACH;FMTTYPE=image/jpeg:https://st1.ejea.es/media/2026/03/Improlove-cartel.jpg
ORGANIZER;CN="Ayuntamiento de Ejea de los Caballeros":MAILTO:info@aytoejea.es
END:VEVENT
BEGIN:VEVENT
DTSTART;TZID=Europe/Madrid:20260321T200000
DTEND;TZID=Europe/Madrid:20260321T213000
DTSTAMP:20260425T132813
CREATED:20260319T092552Z
LAST-MODIFIED:20260319T092552Z
UID:50842-1774123200-1774128600@www.ejea.es
SUMMARY:Espectáculo Sara Escudero
DESCRIPTION:Más información
URL:https://www.ejea.es/evento/espectaculo-sara-escudero/
LOCATION:Teatro de la Villa\, Plaza Virgen de la Oliva\, Ejea de los Caballeros\, Zaragoza\, 50600\, España
CATEGORIES:Cultura,Portada,Teatro
ATTACH;FMTTYPE=image/jpeg:https://st1.ejea.es/media/2026/03/Monologo-21-03-26.jpeg
ORGANIZER;CN="Ayuntamiento de Ejea de los Caballeros":MAILTO:info@aytoejea.es
END:VEVENT
BEGIN:VEVENT
DTSTART;TZID=Europe/Madrid:20260328T200000
DTEND;TZID=Europe/Madrid:20260328T213000
DTSTAMP:20260425T132813
CREATED:20260325T114248Z
LAST-MODIFIED:20260325T114248Z
UID:50957-1774728000-1774733400@www.ejea.es
SUMMARY:Espectáculo "Nuestro Flamenco"
DESCRIPTION:Más información
URL:https://www.ejea.es/evento/espectaculo-nuestro-flamenco/
LOCATION:Teatro de la Villa\, Plaza Virgen de la Oliva\, Ejea de los Caballeros\, Zaragoza\, 50600\, España
CATEGORIES:Cultura,Música,Portada
ATTACH;FMTTYPE=image/png:https://st1.ejea.es/media/2026/03/28.03.2026-NUESTRO-FLAMENCO-scaled.png
ORGANIZER;CN="Ayuntamiento de Ejea de los Caballeros":MAILTO:info@aytoejea.es
END:VEVENT
BEGIN:VEVENT
DTSTART;VALUE=DATE:20260423
DTEND;VALUE=DATE:20260424
DTSTAMP:20260425T132813
CREATED:20260421T075650Z
LAST-MODIFIED:20260421T075700Z
UID:51469-1776902400-1776988799@www.ejea.es
SUMMARY:Celebración «San Jorge»
DESCRIPTION:Programación
URL:https://www.ejea.es/evento/celebracion-san-jorge/
LOCATION:Ejea
CATEGORIES:Cultura,Portada
ATTACH;FMTTYPE=image/jpeg:https://st1.ejea.es/media/2026/04/Cartel-Limpio-23-04-26.jpg
ORGANIZER;CN="Ayuntamiento de Ejea de los Caballeros":MAILTO:info@aytoejea.es
END:VEVENT
END:VCALENDAR